Workbook

Sheet Tareo diario
G1: TAREO DE PERSONAL | M1: =HYPERLINK("https://cucutime.com/pe/control-asistencia-personal","Conozca CucuTime en Perú →") -> Conozca CucuTime en Perú →
C3: Control de personal, más simple. | G3: Plantilla gratuita para empresas en Perú | M3: cucutime.com/pe/control-asistencia-personal
A4: Marcación desde celular • Geolocalización y reconocimiento facial • Reportes de asistencia • Módulo de vacaciones • Ideal para obras, cuadrillas y personal en campo
A6: Fecha | B6: DNI | C6: Trabajador | D6: Cargo | E6: Obra / Proyecto | F6: Frente | G6: Cuadrilla | H6: Actividad | I6: Hora entrada | J6: Hora salida | K6: Refrigerio (min) | L6: Horas trabajadas | M6: Horas ordinarias | N6: Tiempo adicional | O6: Centro de costo | P6: Incidencia / Observaciones | Q6: Supervisor
A7: 46279 | B7: 12345678 | C7: Carlos Ramírez | D7: Operario | E7: Obra Miraflores | F7: Torre A | G7: Cuadrilla 1 | H7: Instalación | I7: 46279.33 | J7: 46279.715 | K7: 60 | L7: =IF(OR(I7="",J7=""),"",MOD(J7-I7,1)*24-K7/60) -> 8.25 | M7: =IF(L7="","",MIN(L7,8)) -> 8 | N7: =IF(L7="","",MAX(L7-8,0)) -> 0.25 | O7: CC-001 | Q7: Ana López
A8: 46279 | B8: 23456789 | C8: José Torres | D8: Operario | E8: Obra Miraflores | F8: Torre A | G8: Cuadrilla 1 | H8: Albañilería | I8: 46279.337 | J8: 46279.764 | K8: 60 | L8: =IF(OR(I8="",J8=""),"",MOD(J8-I8,1)*24-K8/60) -> 9.25 | M8: =IF(L8="","",MIN(L8,8)) -> 8 | N8: =IF(L8="","",MAX(L8-8,0)) -> 1.25 | O8: CC-001 | P8: Salida autorizada | Q8: Ana López
A9: 46279 | B9: 34567890 | C9: Luis Mendoza | D9: Técnico | E9: Obra San Isidro | F9: Sector B | G9: Cuadrilla 2 | H9: Electricidad | I9: 46279.333 | J9: 46279.708 | K9: 60 | L9: =IF(OR(I9="",J9=""),"",MOD(J9-I9,1)*24-K9/60) -> 8 | M9: =IF(L9="","",MIN(L9,8)) -> 8 | N9: =IF(L9="","",MAX(L9-8,0)) -> 0 | O9: CC-002 | Q9: María Ruiz
L10: =IF(OR(I10="",J10=""),"",MOD(J10-I10,1)*24-K10/60) | M10: =IF(L10="","",MIN(L10,8)) | N10: =IF(L10="","",MAX(L10-8,0))
L11: =IF(OR(I11="",J11=""),"",MOD(J11-I11,1)*24-K11/60) | M11: =IF(L11="","",MIN(L11,8)) | N11: =IF(L11="","",MAX(L11-8,0))
L12: =IF(OR(I12="",J12=""),"",MOD(J12-I12,1)*24-K12/60) | M12: =IF(L12="","",MIN(L12,8)) | N12: =IF(L12="","",MAX(L12-8,0))
L13: =IF(OR(I13="",J13=""),"",MOD(J13-I13,1)*24-K13/60) | M13: =IF(L13="","",MIN(L13,8)) | N13: =IF(L13="","",MAX(L13-8,0))
L14: =IF(OR(I14="",J14=""),"",MOD(J14-I14,1)*24-K14/60) | M14: =IF(L14="","",MIN(L14,8)) | N14: =IF(L14="","",MAX(L14-8,0))
L15: =IF(OR(I15="",J15=""),"",MOD(J15-I15,1)*24-K15/60) | M15: =IF(L15="","",MIN(L15,8)) | N15: =IF(L15="","",MAX(L15-8,0))
L16: =IF(OR(I16="",J16=""),"",MOD(J16-I16,1)*24-K16/60) | M16: =IF(L16="","",MIN(L16,8)) | N16: =IF(L16="","",MAX(L16-8,0))
L17: =IF(OR(I17="",J17=""),"",MOD(J17-I17,1)*24-K17/60) | M17: =IF(L17="","",MIN(L17,8)) | N17: =IF(L17="","",MAX(L17-8,0))
L18: =IF(OR(I18="",J18=""),"",MOD(J18-I18,1)*24-K18/60) | M18: =IF(L18="","",MIN(L18,8)) | N18: =IF(L18="","",MAX(L18-8,0))
L19: =IF(OR(I19="",J19=""),"",MOD(J19-I19,1)*24-K19/60) | M19: =IF(L19="","",MIN(L19,8)) | N19: =IF(L19="","",MAX(L19-8,0))
L20: =IF(OR(I20="",J20=""),"",MOD(J20-I20,1)*24-K20/60) | M20: =IF(L20="","",MIN(L20,8)) | N20: =IF(L20="","",MAX(L20-8,0))
L21: =IF(OR(I21="",J21=""),"",MOD(J21-I21,1)*24-K21/60) | M21: =IF(L21="","",MIN(L21,8)) | N21: =IF(L21="","",MAX(L21-8,0))
... L205: =IF(OR(I205="",J205=""),"",MOD(J205-I205,1)*24-K205/60) | M205: =IF(L205="","",MIN(L205,8)) | N205: =IF(L205="","",MAX(L205-8,0))

Sheet Resumen semanal
A1: DNI | B1: Trabajador | C1: Lunes | D1: Martes | E1: Miércoles | F1: Jueves | G1: Viernes | H1: Sábado | I1: Domingo | J1: Total horas | L1: Semana desde | M1: 46279
A2: 12345678 | B2: Carlos Ramírez | C2: =SUMIFS('Tareo diario'!$L$7:$L$205,'Tareo diario'!$B$7:$B$205,$A2,'Tareo diario'!$A$7:$A$205,$M$1+0) -> 8.25 | D2: =SUMIFS('Tareo diario'!$L$7:$L$205,'Tareo diario'!$B$7:$B$205,$A2,'Tareo diario'!$A$7:$A$205,$M$1+1) -> 0 | E2: =SUMIFS('Tareo diario'!$L$7:$L$205,'Tareo diario'!$B$7:$B$205,$A2,'Tareo diario'!$A$7:$A$205,$M$1+2) -> 0 | F2: =SUMIFS('Tareo diario'!$L$7:$L$205,'Tareo diario'!$B$7:$B$205,$A2,'Tareo diario'!$A$7:$A$205,$M$1+3) -> 0 | G2: =SUMIFS('Tareo diario'!$L$7:$L$205,'Tareo diario'!$B$7:$B$205,$A2,'Tareo diario'!$A$7:$A$205,$M$1+4) -> 0 | H2: =SUMIFS('Tareo diario'!$L$7:$L$205,'Tareo diario'!$B$7:$B$205,$A2,'Tareo diario'!$A$7:$A$205,$M$1+5) -> 0 | I2: =SUMIFS('Tareo diario'!$L$7:$L$205,'Tareo diario'!$B$7:$B$205,$A2,'Tareo diario'!$A$7:$A$205,$M$1+6) -> 0 | J2: =SUM(C2:I2) -> 8.25 | L2: Nota | M2: Cambie M1 por el lunes de la semana a consultar
A3: 23456789 | B3: José Torres | C3: =SUMIFS('Tareo diario'!$L$7:$L$205,'Tareo diario'!$B$7:$B$205,$A3,'Tareo diario'!$A$7:$A$205,$M$1+0) -> 9.25 | D3: =SUMIFS('Tareo diario'!$L$7:$L$205,'Tareo diario'!$B$7:$B$205,$A3,'Tareo diario'!$A$7:$A$205,$M$1+1) -> 0 | E3: =SUMIFS('Tareo diario'!$L$7:$L$205,'Tareo diario'!$B$7:$B$205,$A3,'Tareo diario'!$A$7:$A$205,$M$1+2) -> 0 | F3: =SUMIFS('Tareo diario'!$L$7:$L$205,'Tareo diario'!$B$7:$B$205,$A3,'Tareo diario'!$A$7:$A$205,$M$1+3) -> 0 | G3: =SUMIFS('Tareo diario'!$L$7:$L$205,'Tareo diario'!$B$7:$B$205,$A3,'Tareo diario'!$A$7:$A$205,$M$1+4) -> 0 | H3: =SUMIFS('Tareo diario'!$L$7:$L$205,'Tareo diario'!$B$7:$B$205,$A3,'Tareo diario'!$A$7:$A$205,$M$1+5) -> 0 | I3: =SUMIFS('Tareo diario'!$L$7:$L$205,'Tareo diario'!$B$7:$B$205,$A3,'Tareo diario'!$A$7:$A$205,$M$1+6) -> 0 | J3: =SUM(C3:I3) -> 9.25
A4: 34567890 | B4: Luis Mendoza | C4: =SUMIFS('Tareo diario'!$L$7:$L$205,'Tareo diario'!$B$7:$B$205,$A4,'Tareo diario'!$A$7:$A$205,$M$1+0) -> 8 | D4: =SUMIFS('Tareo diario'!$L$7:$L$205,'Tareo diario'!$B$7:$B$205,$A4,'Tareo diario'!$A$7:$A$205,$M$1+1) -> 0 | E4: =SUMIFS('Tareo diario'!$L$7:$L$205,'Tareo diario'!$B$7:$B$205,$A4,'Tareo diario'!$A$7:$A$205,$M$1+2) -> 0 | F4: =SUMIFS('Tareo diario'!$L$7:$L$205,'Tareo diario'!$B$7:$B$205,$A4,'Tareo diario'!$A$7:$A$205,$M$1+3) -> 0 | G4: =SUMIFS('Tareo diario'!$L$7:$L$205,'Tareo diario'!$B$7:$B$205,$A4,'Tareo diario'!$A$7:$A$205,$M$1+4) -> 0 | H4: =SUMIFS('Tareo diario'!$L$7:$L$205,'Tareo diario'!$B$7:$B$205,$A4,'Tareo diario'!$A$7:$A$205,$M$1+5) -> 0 | I4: =SUMIFS('Tareo diario'!$L$7:$L$205,'Tareo diario'!$B$7:$B$205,$A4,'Tareo diario'!$A$7:$A$205,$M$1+6) -> 0 | J4: =SUM(C4:I4) -> 8
C5: =SUMIFS('Tareo diario'!$L$7:$L$205,'Tareo diario'!$B$7:$B$205,$A5,'Tareo diario'!$A$7:$A$205,$M$1+0) -> 0 | D5: =SUMIFS('Tareo diario'!$L$7:$L$205,'Tareo diario'!$B$7:$B$205,$A5,'Tareo diario'!$A$7:$A$205,$M$1+1) -> 0 | E5: =SUMIFS('Tareo diario'!$L$7:$L$205,'Tareo diario'!$B$7:$B$205,$A5,'Tareo diario'!$A$7:$A$205,$M$1+2) -> 0 | F5: =SUMIFS('Tareo diario'!$L$7:$L$205,'Tareo diario'!$B$7:$B$205,$A5,'Tareo diario'!$A$7:$A$205,$M$1+3) -> 0 | G5: =SUMIFS('Tareo diario'!$L$7:$L$205,'Tareo diario'!$B$7:$B$205,$A5,'Tareo diario'!$A$7:$A$205,$M$1+4) -> 0 | H5: =SUMIFS('Tareo diario'!$L$7:$L$205,'Tareo diario'!$B$7:$B$205,$A5,'Tareo diario'!$A$7:$A$205,$M$1+5) -> 0 | I5: =SUMIFS('Tareo diario'!$L$7:$L$205,'Tareo diario'!$B$7:$B$205,$A5,'Tareo diario'!$A$7:$A$205,$M$1+6) -> 0 | J5: =SUM(C5:I5) -> 0
C6: =SUMIFS('Tareo diario'!$L$7:$L$205,'Tareo diario'!$B$7:$B$205,$A6,'Tareo diario'!$A$7:$A$205,$M$1+0) -> 0 | D6: =SUMIFS('Tareo diario'!$L$7:$L$205,'Tareo diario'!$B$7:$B$205,$A6,'Tareo diario'!$A$7:$A$205,$M$1+1) -> 0 | E6: =SUMIFS('Tareo diario'!$L$7:$L$205,'Tareo diario'!$B$7:$B$205,$A6,'Tareo diario'!$A$7:$A$205,$M$1+2) -> 0 | F6: =SUMIFS('Tareo diario'!$L$7:$L$205,'Tareo diario'!$B$7:$B$205,$A6,'Tareo diario'!$A$7:$A$205,$M$1+3) -> 0 | G6: =SUMIFS('Tareo diario'!$L$7:$L$205,'Tareo diario'!$B$7:$B$205,$A6,'Tareo diario'!$A$7:$A$205,$M$1+4) -> 0 | H6: =SUMIFS('Tareo diario'!$L$7:$L$205,'Tareo diario'!$B$7:$B$205,$A6,'Tareo diario'!$A$7:$A$205,$M$1+5) -> 0 | I6: =SUMIFS('Tareo diario'!$L$7:$L$205,'Tareo diario'!$B$7:$B$205,$A6,'Tareo diario'!$A$7:$A$205,$M$1+6) -> 0 | J6: =SUM(C6:I6) -> 0
C7: =SUMIFS('Tareo diario'!$L$7:$L$205,'Tareo diario'!$B$7:$B$205,$A7,'Tareo diario'!$A$7:$A$205,$M$1+0) -> 0 | D7: =SUMIFS('Tareo diario'!$L$7:$L$205,'Tareo diario'!$B$7:$B$205,$A7,'Tareo diario'!$A$7:$A$205,$M$1+1) -> 0 | E7: =SUMIFS('Tareo diario'!$L$7:$L$205,'Tareo diario'!$B$7:$B$205,$A7,'Tareo diario'!$A$7:$A$205,$M$1+2) -> 0 | F7: =SUMIFS('Tareo diario'!$L$7:$L$205,'Tareo diario'!$B$7:$B$205,$A7,'Tareo diario'!$A$7:$A$205,$M$1+3) -> 0 | G7: =SUMIFS('Tareo diario'!$L$7:$L$205,'Tareo diario'!$B$7:$B$205,$A7,'Tareo diario'!$A$7:$A$205,$M$1+4) -> 0 | H7: =SUMIFS('Tareo diario'!$L$7:$L$205,'Tareo diario'!$B$7:$B$205,$A7,'Tareo diario'!$A$7:$A$205,$M$1+5) -> 0 | I7: =SUMIFS('Tareo diario'!$L$7:$L$205,'Tareo diario'!$B$7:$B$205,$A7,'Tareo diario'!$A$7:$A$205,$M$1+6) -> 0 | J7: =SUM(C7:I7) -> 0
C8: =SUMIFS('Tareo diario'!$L$7:$L$205,'Tareo diario'!$B$7:$B$205,$A8,'Tareo diario'!$A$7:$A$205,$M$1+0) -> 0 | D8: =SUMIFS('Tareo diario'!$L$7:$L$205,'Tareo diario'!$B$7:$B$205,$A8,'Tareo diario'!$A$7:$A$205,$M$1+1) -> 0 | E8: =SUMIFS('Tareo diario'!$L$7:$L$205,'Tareo diario'!$B$7:$B$205,$A8,'Tareo diario'!$A$7:$A$205,$M$1+2) -> 0 | F8: =SUMIFS('Tareo diario'!$L$7:$L$205,'Tareo diario'!$B$7:$B$205,$A8,'Tareo diario'!$A$7:$A$205,$M$1+3) -> 0 | G8: =SUMIFS('Tareo diario'!$L$7:$L$205,'Tareo diario'!$B$7:$B$205,$A8,'Tareo diario'!$A$7:$A$205,$M$1+4) -> 0 | H8: =SUMIFS('Tareo diario'!$L$7:$L$205,'Tareo diario'!$B$7:$B$205,$A8,'Tareo diario'!$A$7:$A$205,$M$1+5) -> 0 | I8: =SUMIFS('Tareo diario'!$L$7:$L$205,'Tareo diario'!$B$7:$B$205,$A8,'Tareo diario'!$A$7:$A$205,$M$1+6) -> 0 | J8: =SUM(C8:I8) -> 0
C9: =SUMIFS('Tareo diario'!$L$7:$L$205,'Tareo diario'!$B$7:$B$205,$A9,'Tareo diario'!$A$7:$A$205,$M$1+0) -> 0 | D9: =SUMIFS('Tareo diario'!$L$7:$L$205,'Tareo diario'!$B$7:$B$205,$A9,'Tareo diario'!$A$7:$A$205,$M$1+1) -> 0 | E9: =SUMIFS('Tareo diario'!$L$7:$L$205,'Tareo diario'!$B$7:$B$205,$A9,'Tareo diario'!$A$7:$A$205,$M$1+2) -> 0 | F9: =SUMIFS('Tareo diario'!$L$7:$L$205,'Tareo diario'!$B$7:$B$205,$A9,'Tareo diario'!$A$7:$A$205,$M$1+3) -> 0 | G9: =SUMIFS('Tareo diario'!$L$7:$L$205,'Tareo diario'!$B$7:$B$205,$A9,'Tareo diario'!$A$7:$A$205,$M$1+4) -> 0 | H9: =SUMIFS('Tareo diario'!$L$7:$L$205,'Tareo diario'!$B$7:$B$205,$A9,'Tareo diario'!$A$7:$A$205,$M$1+5) -> 0 | I9: =SUMIFS('Tareo diario'!$L$7:$L$205,'Tareo diario'!$B$7:$B$205,$A9,'Tareo diario'!$A$7:$A$205,$M$1+6) -> 0 | J9: =SUM(C9:I9) -> 0
C10: =SUMIFS('Tareo diario'!$L$7:$L$205,'Tareo diario'!$B$7:$B$205,$A10,'Tareo diario'!$A$7:$A$205,$M$1+0) -> 0 | D10: =SUMIFS('Tareo diario'!$L$7:$L$205,'Tareo diario'!$B$7:$B$205,$A10,'Tareo diario'!$A$7:$A$205,$M$1+1) -> 0 | E10: =SUMIFS('Tareo diario'!$L$7:$L$205,'Tareo diario'!$B$7:$B$205,$A10,'Tareo diario'!$A$7:$A$205,$M$1+2) -> 0 | F10: =SUMIFS('Tareo diario'!$L$7:$L$205,'Tareo diario'!$B$7:$B$205,$A10,'Tareo diario'!$A$7:$A$205,$M$1+3) -> 0 | G10: =SUMIFS('Tareo diario'!$L$7:$L$205,'Tareo diario'!$B$7:$B$205,$A10,'Tareo diario'!$A$7:$A$205,$M$1+4) -> 0 | H10: =SUMIFS('Tareo diario'!$L$7:$L$205,'Tareo diario'!$B$7:$B$205,$A10,'Tareo diario'!$A$7:$A$205,$M$1+5) -> 0 | I10: =SUMIFS('Tareo diario'!$L$7:$L$205,'Tareo diario'!$B$7:$B$205,$A10,'Tareo diario'!$A$7:$A$205,$M$1+6) -> 0 | J10: =SUM(C10:I10) -> 0
C11: =SUMIFS('Tareo diario'!$L$7:$L$205,'Tareo diario'!$B$7:$B$205,$A11,'Tareo diario'!$A$7:$A$205,$M$1+0) -> 0 | D11: =SUMIFS('Tareo diario'!$L$7:$L$205,'Tareo diario'!$B$7:$B$205,$A11,'Tareo diario'!$A$7:$A$205,$M$1+1) -> 0 | E11: =SUMIFS('Tareo diario'!$L$7:$L$205,'Tareo diario'!$B$7:$B$205,$A11,'Tareo diario'!$A$7:$A$205,$M$1+2) -> 0 | F11: =SUMIFS('Tareo diario'!$L$7:$L$205,'Tareo diario'!$B$7:$B$205,$A11,'Tareo diario'!$A$7:$A$205,$M$1+3) -> 0 | G11: =SUMIFS('Tareo diario'!$L$7:$L$205,'Tareo diario'!$B$7:$B$205,$A11,'Tareo diario'!$A$7:$A$205,$M$1+4) -> 0 | H11: =SUMIFS('Tareo diario'!$L$7:$L$205,'Tareo diario'!$B$7:$B$205,$A11,'Tareo diario'!$A$7:$A$205,$M$1+5) -> 0 | I11: =SUMIFS('Tareo diario'!$L$7:$L$205,'Tareo diario'!$B$7:$B$205,$A11,'Tareo diario'!$A$7:$A$205,$M$1+6) -> 0 | J11: =SUM(C11:I11) -> 0
C12: =SUMIFS('Tareo diario'!$L$7:$L$205,'Tareo diario'!$B$7:$B$205,$A12,'Tareo diario'!$A$7:$A$205,$M$1+0) -> 0 | D12: =SUMIFS('Tareo diario'!$L$7:$L$205,'Tareo diario'!$B$7:$B$205,$A12,'Tareo diario'!$A$7:$A$205,$M$1+1) -> 0 | E12: =SUMIFS('Tareo diario'!$L$7:$L$205,'Tareo diario'!$B$7:$B$205,$A12,'Tareo diario'!$A$7:$A$205,$M$1+2) -> 0 | F12: =SUMIFS('Tareo diario'!$L$7:$L$205,'Tareo diario'!$B$7:$B$205,$A12,'Tareo diario'!$A$7:$A$205,$M$1+3) -> 0 | G12: =SUMIFS('Tareo diario'!$L$7:$L$205,'Tareo diario'!$B$7:$B$205,$A12,'Tareo diario'!$A$7:$A$205,$M$1+4) -> 0 | H12: =SUMIFS('Tareo diario'!$L$7:$L$205,'Tareo diario'!$B$7:$B$205,$A12,'Tareo diario'!$A$7:$A$205,$M$1+5) -> 0 | I12: =SUMIFS('Tareo diario'!$L$7:$L$205,'Tareo diario'!$B$7:$B$205,$A12,'Tareo diario'!$A$7:$A$205,$M$1+6) -> 0 | J12: =SUM(C12:I12) -> 0
C13: =SUMIFS('Tareo diario'!$L$7:$L$205,'Tareo diario'!$B$7:$B$205,$A13,'Tareo diario'!$A$7:$A$205,$M$1+0) -> 0 | D13: =SUMIFS('Tareo diario'!$L$7:$L$205,'Tareo diario'!$B$7:$B$205,$A13,'Tareo diario'!$A$7:$A$205,$M$1+1) -> 0 | E13: =SUMIFS('Tareo diario'!$L$7:$L$205,'Tareo diario'!$B$7:$B$205,$A13,'Tareo diario'!$A$7:$A$205,$M$1+2) -> 0 | F13: =SUMIFS('Tareo diario'!$L$7:$L$205,'Tareo diario'!$B$7:$B$205,$A13,'Tareo diario'!$A$7:$A$205,$M$1+3) -> 0 | G13: =SUMIFS('Tareo diario'!$L$7:$L$205,'Tareo diario'!$B$7:$B$205,$A13,'Tareo diario'!$A$7:$A$205,$M$1+4) -> 0 | H13: =SUMIFS('Tareo diario'!$L$7:$L$205,'Tareo diario'!$B$7:$B$205,$A13,'Tareo diario'!$A$7:$A$205,$M$1+5) -> 0 | I13: =SUMIFS('Tareo diario'!$L$7:$L$205,'Tareo diario'!$B$7:$B$205,$A13,'Tareo diario'!$A$7:$A$205,$M$1+6) -> 0 | J13: =SUM(C13:I13) -> 0
C14: =SUMIFS('Tareo diario'!$L$7:$L$205,'Tareo diario'!$B$7:$B$205,$A14,'Tareo diario'!$A$7:$A$205,$M$1+0) -> 0 | D14: =SUMIFS('Tareo diario'!$L$7:$L$205,'Tareo diario'!$B$7:$B$205,$A14,'Tareo diario'!$A$7:$A$205,$M$1+1) -> 0 | E14: =SUMIFS('Tareo diario'!$L$7:$L$205,'Tareo diario'!$B$7:$B$205,$A14,'Tareo diario'!$A$7:$A$205,$M$1+2) -> 0 | F14: =SUMIFS('Tareo diario'!$L$7:$L$205,'Tareo diario'!$B$7:$B$205,$A14,'Tareo diario'!$A$7:$A$205,$M$1+3) -> 0 | G14: =SUMIFS('Tareo diario'!$L$7:$L$205,'Tareo diario'!$B$7:$B$205,$A14,'Tareo diario'!$A$7:$A$205,$M$1+4) -> 0 | H14: =SUMIFS('Tareo diario'!$L$7:$L$205,'Tareo diario'!$B$7:$B$205,$A14,'Tareo diario'!$A$7:$A$205,$M$1+5) -> 0 | I14: =SUMIFS('Tareo diario'!$L$7:$L$205,'Tareo diario'!$B$7:$B$205,$A14,'Tareo diario'!$A$7:$A$205,$M$1+6) -> 0 | J14: =SUM(C14:I14) -> 0
C15: =SUMIFS('Tareo diario'!$L$7:$L$205,'Tareo diario'!$B$7:$B$205,$A15,'Tareo diario'!$A$7:$A$205,$M$1+0) -> 0 | D15: =SUMIFS('Tareo diario'!$L$7:$L$205,'Tareo diario'!$B$7:$B$205,$A15,'Tareo diario'!$A$7:$A$205,$M$1+1) -> 0 | E15: =SUMIFS('Tareo diario'!$L$7:$L$205,'Tareo diario'!$B$7:$B$205,$A15,'Tareo diario'!$A$7:$A$205,$M$1+2) -> 0 | F15: =SUMIFS('Tareo diario'!$L$7:$L$205,'Tareo diario'!$B$7:$B$205,$A15,'Tareo diario'!$A$7:$A$205,$M$1+3) -> 0 | G15: =SUMIFS('Tareo diario'!$L$7:$L$205,'Tareo diario'!$B$7:$B$205,$A15,'Tareo diario'!$A$7:$A$205,$M$1+4) -> 0 | H15: =SUMIFS('Tareo diario'!$L$7:$L$205,'Tareo diario'!$B$7:$B$205,$A15,'Tareo diario'!$A$7:$A$205,$M$1+5) -> 0 | I15: =SUMIFS('Tareo diario'!$L$7:$L$205,'Tareo diario'!$B$7:$B$205,$A15,'Tareo diario'!$A$7:$A$205,$M$1+6) -> 0 | J15: =SUM(C15:I15) -> 0
C16: =SUMIFS('Tareo diario'!$L$7:$L$205,'Tareo diario'!$B$7:$B$205,$A16,'Tareo diario'!$A$7:$A$205,$M$1+0) -> 0 | D16: =SUMIFS('Tareo diario'!$L$7:$L$205,'Tareo diario'!$B$7:$B$205,$A16,'Tareo diario'!$A$7:$A$205,$M$1+1) -> 0 | E16: =SUMIFS('Tareo diario'!$L$7:$L$205,'Tareo diario'!$B$7:$B$205,$A16,'Tareo diario'!$A$7:$A$205,$M$1+2) -> 0 | F16: =SUMIFS('Tareo diario'!$L$7:$L$205,'Tareo diario'!$B$7:$B$205,$A16,'Tareo diario'!$A$7:$A$205,$M$1+3) -> 0 | G16: =SUMIFS('Tareo diario'!$L$7:$L$205,'Tareo diario'!$B$7:$B$205,$A16,'Tareo diario'!$A$7:$A$205,$M$1+4) -> 0 | H16: =SUMIFS('Tareo diario'!$L$7:$L$205,'Tareo diario'!$B$7:$B$205,$A16,'Tareo diario'!$A$7:$A$205,$M$1+5) -> 0 | I16: =SUMIFS('Tareo diario'!$L$7:$L$205,'Tareo diario'!$B$7:$B$205,$A16,'Tareo diario'!$A$7:$A$205,$M$1+6) -> 0 | J16: =SUM(C16:I16) -> 0
... C100: =SUMIFS('Tareo diario'!$L$7:$L$205,'Tareo diario'!$B$7:$B$205,$A100,'Tareo diario'!$A$7:$A$205,$M$1+0) -> 0 | D100: =SUMIFS('Tareo diario'!$L$7:$L$205,'Tareo diario'!$B$7:$B$205,$A100,'Tareo diario'!$A$7:$A$205,$M$1+1) -> 0 | E100: =SUMIFS('Tareo diario'!$L$7:$L$205,'Tareo diario'!$B$7:$B$205,$A100,'Tareo diario'!$A$7:$A$205,$M$1+2) -> 0 | F100: =SUMIFS('Tareo diario'!$L$7:$L$205,'Tareo diario'!$B$7:$B$205,$A100,'Tareo diario'!$A$7:$A$205,$M$1+3) -> 0 | G100: =SUMIFS('Tareo diario'!$L$7:$L$205,'Tareo diario'!$B$7:$B$205,$A100,'Tareo diario'!$A$7:$A$205,$M$1+4) -> 0 | H100: =SUMIFS('Tareo diario'!$L$7:$L$205,'Tareo diario'!$B$7:$B$205,$A100,'Tareo diario'!$A$7:$A$205,$M$1+5) -> 0 | I100: =SUMIFS('Tareo diario'!$L$7:$L$205,'Tareo diario'!$B$7:$B$205,$A100,'Tareo diario'!$A$7:$A$205,$M$1+6) -> 0 | J100: =SUM(C100:I100) -> 0

Sheet Resumen por obra
A1: Obra / Proyecto | B1: Horas trabajadas | C1: Tiempo adicional | D1: Registros
A2: Obra Miraflores | B2: =SUMIF('Tareo diario'!$E$7:$E$205,A2,'Tareo diario'!$L$7:$L$205) -> 17.5 | C2: =SUMIF('Tareo diario'!$E$7:$E$205,A2,'Tareo diario'!$N$7:$N$205) -> 1.5 | D2: =COUNTIF('Tareo diario'!$E$7:$E$205,A2) -> 2
A3: Obra San Isidro | B3: =SUMIF('Tareo diario'!$E$7:$E$205,A3,'Tareo diario'!$L$7:$L$205) -> 8 | C3: =SUMIF('Tareo diario'!$E$7:$E$205,A3,'Tareo diario'!$N$7:$N$205) -> 0 | D3: =COUNTIF('Tareo diario'!$E$7:$E$205,A3) -> 1
B4: =SUMIF('Tareo diario'!$E$7:$E$205,A4,'Tareo diario'!$L$7:$L$205) -> 0 | C4: =SUMIF('Tareo diario'!$E$7:$E$205,A4,'Tareo diario'!$N$7:$N$205) -> 0 | D4: =COUNTIF('Tareo diario'!$E$7:$E$205,A4) -> 0
B5: =SUMIF('Tareo diario'!$E$7:$E$205,A5,'Tareo diario'!$L$7:$L$205) -> 0 | C5: =SUMIF('Tareo diario'!$E$7:$E$205,A5,'Tareo diario'!$N$7:$N$205) -> 0 | D5: =COUNTIF('Tareo diario'!$E$7:$E$205,A5) -> 0
B6: =SUMIF('Tareo diario'!$E$7:$E$205,A6,'Tareo diario'!$L$7:$L$205) -> 0 | C6: =SUMIF('Tareo diario'!$E$7:$E$205,A6,'Tareo diario'!$N$7:$N$205) -> 0 | D6: =COUNTIF('Tareo diario'!$E$7:$E$205,A6) -> 0
B7: =SUMIF('Tareo diario'!$E$7:$E$205,A7,'Tareo diario'!$L$7:$L$205) -> 0 | C7: =SUMIF('Tareo diario'!$E$7:$E$205,A7,'Tareo diario'!$N$7:$N$205) -> 0 | D7: =COUNTIF('Tareo diario'!$E$7:$E$205,A7) -> 0
B8: =SUMIF('Tareo diario'!$E$7:$E$205,A8,'Tareo diario'!$L$7:$L$205) -> 0 | C8: =SUMIF('Tareo diario'!$E$7:$E$205,A8,'Tareo diario'!$N$7:$N$205) -> 0 | D8: =COUNTIF('Tareo diario'!$E$7:$E$205,A8) -> 0
B9: =SUMIF('Tareo diario'!$E$7:$E$205,A9,'Tareo diario'!$L$7:$L$205) -> 0 | C9: =SUMIF('Tareo diario'!$E$7:$E$205,A9,'Tareo diario'!$N$7:$N$205) -> 0 | D9: =COUNTIF('Tareo diario'!$E$7:$E$205,A9) -> 0
B10: =SUMIF('Tareo diario'!$E$7:$E$205,A10,'Tareo diario'!$L$7:$L$205) -> 0 | C10: =SUMIF('Tareo diario'!$E$7:$E$205,A10,'Tareo diario'!$N$7:$N$205) -> 0 | D10: =COUNTIF('Tareo diario'!$E$7:$E$205,A10) -> 0
B11: =SUMIF('Tareo diario'!$E$7:$E$205,A11,'Tareo diario'!$L$7:$L$205) -> 0 | C11: =SUMIF('Tareo diario'!$E$7:$E$205,A11,'Tareo diario'!$N$7:$N$205) -> 0 | D11: =COUNTIF('Tareo diario'!$E$7:$E$205,A11) -> 0
B12: =SUMIF('Tareo diario'!$E$7:$E$205,A12,'Tareo diario'!$L$7:$L$205) -> 0 | C12: =SUMIF('Tareo diario'!$E$7:$E$205,A12,'Tareo diario'!$N$7:$N$205) -> 0 | D12: =COUNTIF('Tareo diario'!$E$7:$E$205,A12) -> 0
B13: =SUMIF('Tareo diario'!$E$7:$E$205,A13,'Tareo diario'!$L$7:$L$205) -> 0 | C13: =SUMIF('Tareo diario'!$E$7:$E$205,A13,'Tareo diario'!$N$7:$N$205) -> 0 | D13: =COUNTIF('Tareo diario'!$E$7:$E$205,A13) -> 0
B14: =SUMIF('Tareo diario'!$E$7:$E$205,A14,'Tareo diario'!$L$7:$L$205) -> 0 | C14: =SUMIF('Tareo diario'!$E$7:$E$205,A14,'Tareo diario'!$N$7:$N$205) -> 0 | D14: =COUNTIF('Tareo diario'!$E$7:$E$205,A14) -> 0
B15: =SUMIF('Tareo diario'!$E$7:$E$205,A15,'Tareo diario'!$L$7:$L$205) -> 0 | C15: =SUMIF('Tareo diario'!$E$7:$E$205,A15,'Tareo diario'!$N$7:$N$205) -> 0 | D15: =COUNTIF('Tareo diario'!$E$7:$E$205,A15) -> 0
... B100: =SUMIF('Tareo diario'!$E$7:$E$205,A100,'Tareo diario'!$L$7:$L$205) -> 0 | C100: =SUMIF('Tareo diario'!$E$7:$E$205,A100,'Tareo diario'!$N$7:$N$205) -> 0 | D100: =COUNTIF('Tareo diario'!$E$7:$E$205,A100) -> 0

Sheet Instrucciones
A1: Plantilla gratuita de tareo de personal | B1: CucuTime
A2: 1. Tareo diario | B2: Ingrese una fila por trabajador y jornada. Las horas se calculan automáticamente.
A3: 2. Refrigerio | B3: Ingrese los minutos de refrigerio que deban descontarse del cálculo operativo.
A4: 3. Horas ordinarias | B4: La plantilla usa 8 horas como referencia operativa editable; valide las reglas aplicables a su empresa.
A5: 4. Tiempo adicional | B5: Se calcula como horas trabajadas sobre 8. No implica por sí solo que corresponda legalmente pago de horas extra.
A6: 5. Resumen semanal | B6: Cambie la fecha de 'Semana desde' por el lunes de la semana que desea consultar.
A7: 6. Resumen por obra | B7: Escriba cada obra/proyecto en la columna A para consolidar sus horas.
A8: Importante | B8: Esta plantilla es una herramienta operativa de tareo. No sustituye por sí sola el registro de control de asistencia ni asesoramiento laboral.
A9: Uso | B9: Puede adaptar cargos, proyectos, cuadrillas, actividades, centros de costo y observaciones a su operación.
A11: CucuTime — control de asistencia para empresas en Perú
A12: Marcación desde celular, geolocalización, reconocimiento facial y reportes de asistencia.
A13: =HYPERLINK("https://cucutime.com/pe/control-asistencia-personal","Visitar la landing de CucuTime Perú →") -> Visitar la landing de CucuTime Perú →

Sheet Sobre CucuTime
A1: ✓ CucuTime
A3: Control de asistencia para empresas en Perú
A5: Digitalice el registro de entradas y salidas con marcación desde celular, tablet, computadora o relojes biométricos. CucuTime permite gestionar horarios, geolocalización, reconocimiento facial y reportes de asistencia para equipos presenciales, distribuidos y personal en campo.
A10: =HYPERLINK("https://cucutime.com/pe/control-asistencia-personal","Conozca CucuTime en Perú →") -> Conozca CucuTime en Perú →
A13: https://cucutime.com/pe/control-asistencia-personal
